BEGIN:VCALENDAR
VERSION:2.0
PRODID:-//Port Macquarie Game Fishing Club - ECPv5.1.4//NONSGML v1.0//EN
CALSCALE:GREGORIAN
METHOD:PUBLISH
X-WR-CALNAME:Port Macquarie Game Fishing Club
X-ORIGINAL-URL:http://pmgfc.com.au
X-WR-CALDESC:Events for Port Macquarie Game Fishing Club
BEGIN:VTIMEZONE
TZID:UTC
BEGIN:STANDARD
TZOFFSETFROM:+0000
TZOFFSETTO:+0000
TZNAME:UTC
DTSTART:20210101T000000
END:STANDARD
END:VTIMEZONE
BEGIN:VEVENT
DTSTART;TZID=UTC:20210206T070000
DTEND;TZID=UTC:20210207T170000
DTSTAMP:20210225T110956
CREATED:20200726T054558Z
LAST-MODIFIED:20200726T054558Z
UID:980-1612594800-1612717200@pmgfc.com.au
SUMMARY:Major Days
DESCRIPTION:
URL:http://pmgfc.com.au/event/major-days-12/
END:VEVENT
END:VCALENDAR